BEGIN:VCALENDAR
VERSION:2.0
PRODID:-//Healthy Start TASC - ECPv6.15.20//NONSGML v1.0//EN
CALSCALE:GREGORIAN
METHOD:PUBLISH
X-WR-CALNAME:Healthy Start TASC
X-ORIGINAL-URL:https://healthystart-tasc.org
X-WR-CALDESC:Events for Healthy Start TASC
REFRESH-INTERVAL;VALUE=DURATION:PT1H
X-Robots-Tag:noindex
X-PUBLISHED-TTL:PT1H
BEGIN:VTIMEZONE
TZID:America/New_York
BEGIN:DAYLIGHT
TZOFFSETFROM:-0500
TZOFFSETTO:-0400
TZNAME:EDT
DTSTART:20230312T070000
END:DAYLIGHT
BEGIN:STANDARD
TZOFFSETFROM:-0400
TZOFFSETTO:-0500
TZNAME:EST
DTSTART:20231105T060000
END:STANDARD
BEGIN:DAYLIGHT
TZOFFSETFROM:-0500
TZOFFSETTO:-0400
TZNAME:EDT
DTSTART:20240310T070000
END:DAYLIGHT
BEGIN:STANDARD
TZOFFSETFROM:-0400
TZOFFSETTO:-0500
TZNAME:EST
DTSTART:20241103T060000
END:STANDARD
BEGIN:DAYLIGHT
TZOFFSETFROM:-0500
TZOFFSETTO:-0400
TZNAME:EDT
DTSTART:20250309T070000
END:DAYLIGHT
BEGIN:STANDARD
TZOFFSETFROM:-0400
TZOFFSETTO:-0500
TZNAME:EST
DTSTART:20251102T060000
END:STANDARD
END:VTIMEZONE
BEGIN:VEVENT
DTSTART;TZID=America/New_York:20241106T140000
DTEND;TZID=America/New_York:20241106T150000
DTSTAMP:20260420T080249
CREATED:20241030T135549Z
LAST-MODIFIED:20241030T135549Z
UID:10000428-1730901600-1730905200@healthystart-tasc.org
SUMMARY:Healthy Start Evaluation Webinar 1: Engaging People with Lived Experience in the Community Consortium
DESCRIPTION:Please join the Division of Healthy Start and Perinatal Services (DHSPS)\, in partnership with Westat\, the Healthy Start evaluation contractor for Health Resources and Services Administration (HRSA)\, for two Healthy Start evaluation webinars. \nThe first webinar\, Engaging People with Lived Experience in the Community Consortium\, will take place on Wednesday\, November 6 from 2-3 p.m. ET. The goal of this webinar is to provide a resource for grantees to describe the performance measure on engaging people with lived experience in the Community Consortium. Grantees must report this performance measure in the annual Non-Competing Continuation (NCC) progress report. Westat will present the spectrum of engagement as a strategy and share tools to plan\, assess\, and document progress on the meaningful engagement of people with lived experience for continuous quality improvement. \n 
URL:https://healthystart-tasc.org/event/healthy-start-evaluation-webinar-1-engaging-people-with-lived-experience-in-the-community-consortium/
ATTACH;FMTTYPE=image/jpeg:https://healthystart-tasc.org/wp-content/uploads/2024/10/iStock-1077259686.jpg
END:VEVENT
END:VCALENDAR