BEGIN:VCALENDAR
VERSION:2.0
PRODID:-//Healthy Start TASC - ECPv6.15.20//NONSGML v1.0//EN
CALSCALE:GREGORIAN
METHOD:PUBLISH
X-ORIGINAL-URL:https://healthystart-tasc.org
X-WR-CALDESC:Events for Healthy Start TASC
REFRESH-INTERVAL;VALUE=DURATION:PT1H
X-Robots-Tag:noindex
X-PUBLISHED-TTL:PT1H
BEGIN:VTIMEZONE
TZID:America/New_York
BEGIN:DAYLIGHT
TZOFFSETFROM:-0500
TZOFFSETTO:-0400
TZNAME:EDT
DTSTART:20230312T070000
END:DAYLIGHT
BEGIN:STANDARD
TZOFFSETFROM:-0400
TZOFFSETTO:-0500
TZNAME:EST
DTSTART:20231105T060000
END:STANDARD
BEGIN:DAYLIGHT
TZOFFSETFROM:-0500
TZOFFSETTO:-0400
TZNAME:EDT
DTSTART:20240310T070000
END:DAYLIGHT
BEGIN:STANDARD
TZOFFSETFROM:-0400
TZOFFSETTO:-0500
TZNAME:EST
DTSTART:20241103T060000
END:STANDARD
BEGIN:DAYLIGHT
TZOFFSETFROM:-0500
TZOFFSETTO:-0400
TZNAME:EDT
DTSTART:20250309T070000
END:DAYLIGHT
BEGIN:STANDARD
TZOFFSETFROM:-0400
TZOFFSETTO:-0500
TZNAME:EST
DTSTART:20251102T060000
END:STANDARD
END:VTIMEZONE
BEGIN:VEVENT
DTSTART;TZID=America/New_York:20240716T120000
DTEND;TZID=America/New_York:20240716T133000
DTSTAMP:20260417T101735
CREATED:20240625T154742Z
LAST-MODIFIED:20240625T155134Z
UID:10000420-1721131200-1721136600@healthystart-tasc.org
SUMMARY:Networking Café: TASC Online Courses
DESCRIPTION:Please join the Healthy Start TA & Support Center (TASC) for the TASC Online Courses Networking Café on Tuesday\, July 16 from 12-1:30 pm ET. The goal of this Networking Café is to gather input from Healthy Start staff to inform the development of online courses on the TASC’s new engagement platform\, the Healthy Start Hub. We will provide an overview of the Community Health Worker Course on the Hub and facilitate a discussion around how to make future online courses impactful\, accessible\, engaging\, and enriching for grantees. This Networking Café is open to all Healthy Start staff. We especially encourage those who have taken the Community Health Worker course in the past to join. \nTo register for this Networking Café\, please click here. We look forward to seeing you on July 16! If you have any questions in the meantime\, please email healthystart@nichq.org.
URL:https://healthystart-tasc.org/event/networking-cafe-tasc-online-courses/
ATTACH;FMTTYPE=image/jpeg:https://healthystart-tasc.org/wp-content/uploads/2024/06/iStock-1208757413.jpg
END:VEVENT
END:VCALENDAR