BEGIN:VCALENDAR
VERSION:2.0
PRODID:-//Healthy Start TASC - ECPv6.15.20//NONSGML v1.0//EN
CALSCALE:GREGORIAN
METHOD:PUBLISH
X-ORIGINAL-URL:https://healthystart-tasc.org
X-WR-CALDESC:Events for Healthy Start TASC
REFRESH-INTERVAL;VALUE=DURATION:PT1H
X-Robots-Tag:noindex
X-PUBLISHED-TTL:PT1H
BEGIN:VTIMEZONE
TZID:America/New_York
BEGIN:DAYLIGHT
TZOFFSETFROM:-0500
TZOFFSETTO:-0400
TZNAME:EDT
DTSTART:20230312T070000
END:DAYLIGHT
BEGIN:STANDARD
TZOFFSETFROM:-0400
TZOFFSETTO:-0500
TZNAME:EST
DTSTART:20231105T060000
END:STANDARD
BEGIN:DAYLIGHT
TZOFFSETFROM:-0500
TZOFFSETTO:-0400
TZNAME:EDT
DTSTART:20240310T070000
END:DAYLIGHT
BEGIN:STANDARD
TZOFFSETFROM:-0400
TZOFFSETTO:-0500
TZNAME:EST
DTSTART:20241103T060000
END:STANDARD
BEGIN:DAYLIGHT
TZOFFSETFROM:-0500
TZOFFSETTO:-0400
TZNAME:EDT
DTSTART:20250309T070000
END:DAYLIGHT
BEGIN:STANDARD
TZOFFSETFROM:-0400
TZOFFSETTO:-0500
TZNAME:EST
DTSTART:20251102T060000
END:STANDARD
END:VTIMEZONE
BEGIN:VEVENT
DTSTART;TZID=America/New_York:20240715T140000
DTEND;TZID=America/New_York:20240715T151500
DTSTAMP:20260417T101707
CREATED:20240731T193925Z
LAST-MODIFIED:20240731T193936Z
UID:10000422-1721052000-1721056500@healthystart-tasc.org
SUMMARY:Sustainability Learning Lab Session #3
DESCRIPTION:The Sustainability Learning Lab\, in partnership with Brenda Blasingame\, Principal and Founder of Vav Amani Consulting LLC\, will provide an opportunity for Healthy Start sites to engage in a cycle of reflection and practice on sustainability through: \n\nLearning – participants will exchange knowledge with peers and subject matter experts\nPlanning – participants will tailor their sustainability plan to their local context\nApplying Real-time Approaches – participants will draft and implement sustainability action plans\nAnalysis and Assessment of Approaches – participants will evaluate the implementation of action plans and identify lessons learned\n\nThe third session on July 15th will focus on the “Strong Partnerships\, Community Engagement and Champions.” \nThis is a closed group.
URL:https://healthystart-tasc.org/event/sustainability-learning-lab-session-2-2/
ATTACH;FMTTYPE=image/jpeg:https://healthystart-tasc.org/wp-content/uploads/2024/06/iStock-1211964491.jpg
END:VEVENT
END:VCALENDAR