BEGIN:VCALENDAR
VERSION:2.0
PRODID:-//Healthy Start TASC - ECPv6.15.20//NONSGML v1.0//EN
CALSCALE:GREGORIAN
METHOD:PUBLISH
X-WR-CALNAME:Healthy Start TASC
X-ORIGINAL-URL:https://healthystart-tasc.org
X-WR-CALDESC:Events for Healthy Start TASC
REFRESH-INTERVAL;VALUE=DURATION:PT1H
X-Robots-Tag:noindex
X-PUBLISHED-TTL:PT1H
BEGIN:VTIMEZONE
TZID:America/New_York
BEGIN:DAYLIGHT
TZOFFSETFROM:-0500
TZOFFSETTO:-0400
TZNAME:EDT
DTSTART:20230312T070000
END:DAYLIGHT
BEGIN:STANDARD
TZOFFSETFROM:-0400
TZOFFSETTO:-0500
TZNAME:EST
DTSTART:20231105T060000
END:STANDARD
BEGIN:DAYLIGHT
TZOFFSETFROM:-0500
TZOFFSETTO:-0400
TZNAME:EDT
DTSTART:20240310T070000
END:DAYLIGHT
BEGIN:STANDARD
TZOFFSETFROM:-0400
TZOFFSETTO:-0500
TZNAME:EST
DTSTART:20241103T060000
END:STANDARD
BEGIN:DAYLIGHT
TZOFFSETFROM:-0500
TZOFFSETTO:-0400
TZNAME:EDT
DTSTART:20250309T070000
END:DAYLIGHT
BEGIN:STANDARD
TZOFFSETFROM:-0400
TZOFFSETTO:-0500
TZNAME:EST
DTSTART:20251102T060000
END:STANDARD
END:VTIMEZONE
BEGIN:VEVENT
DTSTART;TZID=America/New_York:20240626T130000
DTEND;TZID=America/New_York:20240626T143000
DTSTAMP:20260420T162956
CREATED:20240617T154950Z
LAST-MODIFIED:20240617T155721Z
UID:10000419-1719406800-1719412200@healthystart-tasc.org
SUMMARY:Equity Tools & Strategies LAB Session #4
DESCRIPTION:The Equity LAB is a learning community where information can be deposited\, developed\, and (re)directed. The Equity LAB is an opportunity to collaborate in a group learning format and will include knowledge transfer\, communal interactions\, synergy\, and testing. \nLAB stands for … Learning\, Analyzing\, and Beta Testing \nThis final session of the Equity Culture LAB on June 26th will debut all the progress and work made by the LAB partners\, and plans to move their projects along in their Healthy Start community. \nThis is a closed group.
URL:https://healthystart-tasc.org/event/equity-tools-strategies-lab-session-4/
ATTACH;FMTTYPE=image/jpeg:https://healthystart-tasc.org/wp-content/uploads/2024/06/iStock-1311405065.jpg
END:VEVENT
END:VCALENDAR