BEGIN:VCALENDAR
VERSION:2.0
PRODID:-//Healthy Start TASC - ECPv6.15.20//NONSGML v1.0//EN
CALSCALE:GREGORIAN
METHOD:PUBLISH
X-ORIGINAL-URL:https://healthystart-tasc.org
X-WR-CALDESC:Events for Healthy Start TASC
REFRESH-INTERVAL;VALUE=DURATION:PT1H
X-Robots-Tag:noindex
X-PUBLISHED-TTL:PT1H
BEGIN:VTIMEZONE
TZID:America/New_York
BEGIN:DAYLIGHT
TZOFFSETFROM:-0500
TZOFFSETTO:-0400
TZNAME:EDT
DTSTART:20230312T070000
END:DAYLIGHT
BEGIN:STANDARD
TZOFFSETFROM:-0400
TZOFFSETTO:-0500
TZNAME:EST
DTSTART:20231105T060000
END:STANDARD
BEGIN:DAYLIGHT
TZOFFSETFROM:-0500
TZOFFSETTO:-0400
TZNAME:EDT
DTSTART:20240310T070000
END:DAYLIGHT
BEGIN:STANDARD
TZOFFSETFROM:-0400
TZOFFSETTO:-0500
TZNAME:EST
DTSTART:20241103T060000
END:STANDARD
BEGIN:DAYLIGHT
TZOFFSETFROM:-0500
TZOFFSETTO:-0400
TZNAME:EDT
DTSTART:20250309T070000
END:DAYLIGHT
BEGIN:STANDARD
TZOFFSETFROM:-0400
TZOFFSETTO:-0500
TZNAME:EST
DTSTART:20251102T060000
END:STANDARD
END:VTIMEZONE
BEGIN:VEVENT
DTSTART;TZID=America/New_York:20240625T130000
DTEND;TZID=America/New_York:20240625T143000
DTSTAMP:20260417T102006
CREATED:20240617T145120Z
LAST-MODIFIED:20240617T154727Z
UID:10000418-1719320400-1719325800@healthystart-tasc.org
SUMMARY:Equity Culture LAB Session #4
DESCRIPTION:The Equity LAB is a learning community where information can be deposited\, developed\, and (re)directed. The Equity LAB is an opportunity to collaborate in a group learning format and will include knowledge transfer\, communal interactions\, synergy\, and testing. \nLAB stands for … Learning\, Analyzing\, and Beta Testing \nThis final session of the Equity Culture LAB on June 25th will debut all the progress and work made by the LAB partners\, and plans to move their projects along in their Healthy Start community. \nThis is a closed group.
URL:https://healthystart-tasc.org/event/equity-culture-lab-session-4/
ATTACH;FMTTYPE=image/jpeg:https://healthystart-tasc.org/wp-content/uploads/2024/05/ROOT-LA.jpg
END:VEVENT
END:VCALENDAR