BEGIN:VCALENDAR
VERSION:2.0
PRODID:-//Healthy Start TASC - ECPv6.15.20//NONSGML v1.0//EN
CALSCALE:GREGORIAN
METHOD:PUBLISH
X-WR-CALNAME:Healthy Start TASC
X-ORIGINAL-URL:https://healthystart-tasc.org
X-WR-CALDESC:Events for Healthy Start TASC
REFRESH-INTERVAL;VALUE=DURATION:PT1H
X-Robots-Tag:noindex
X-PUBLISHED-TTL:PT1H
BEGIN:VTIMEZONE
TZID:America/New_York
BEGIN:DAYLIGHT
TZOFFSETFROM:-0500
TZOFFSETTO:-0400
TZNAME:EDT
DTSTART:20230312T070000
END:DAYLIGHT
BEGIN:STANDARD
TZOFFSETFROM:-0400
TZOFFSETTO:-0500
TZNAME:EST
DTSTART:20231105T060000
END:STANDARD
BEGIN:DAYLIGHT
TZOFFSETFROM:-0500
TZOFFSETTO:-0400
TZNAME:EDT
DTSTART:20240310T070000
END:DAYLIGHT
BEGIN:STANDARD
TZOFFSETFROM:-0400
TZOFFSETTO:-0500
TZNAME:EST
DTSTART:20241103T060000
END:STANDARD
BEGIN:DAYLIGHT
TZOFFSETFROM:-0500
TZOFFSETTO:-0400
TZNAME:EDT
DTSTART:20250309T070000
END:DAYLIGHT
BEGIN:STANDARD
TZOFFSETFROM:-0400
TZOFFSETTO:-0500
TZNAME:EST
DTSTART:20251102T060000
END:STANDARD
END:VTIMEZONE
BEGIN:VEVENT
DTSTART;TZID=America/New_York:20240613T140000
DTEND;TZID=America/New_York:20240613T153000
DTSTAMP:20260417T094203
CREATED:20240603T145925Z
LAST-MODIFIED:20240606T174502Z
UID:10000415-1718287200-1718292600@healthystart-tasc.org
SUMMARY:Data Collection Forms Webinar
DESCRIPTION:On behalf of the Division of Healthy Start and Perinatal Services (DHSPS)\, the Healthy Start TA & Support Center (TASC) is hosting a Healthy Start Data Collection Forms training on Thursday\, June 13 from 2-3:30 pm ET. During this training\, staff from DHSPS will discuss the implementation of the revised data collection forms for the 2024-2029 grant cycle. We strongly encourage the following staff members to attend: Healthy Start data managers\, case management supervisors\, and any staff responsible for training others to collect data using the forms.
URL:https://healthystart-tasc.org/event/data-collection-forms-webinar/
ATTACH;FMTTYPE=image/jpeg:https://healthystart-tasc.org/wp-content/uploads/2024/06/iStock-1434437996.jpg
END:VEVENT
END:VCALENDAR