BEGIN:VCALENDAR
VERSION:2.0
PRODID:-//Healthy Start TASC - ECPv6.15.20//NONSGML v1.0//EN
CALSCALE:GREGORIAN
METHOD:PUBLISH
X-ORIGINAL-URL:https://healthystart-tasc.org
X-WR-CALDESC:Events for Healthy Start TASC
REFRESH-INTERVAL;VALUE=DURATION:PT1H
X-Robots-Tag:noindex
X-PUBLISHED-TTL:PT1H
BEGIN:VTIMEZONE
TZID:America/New_York
BEGIN:DAYLIGHT
TZOFFSETFROM:-0500
TZOFFSETTO:-0400
TZNAME:EDT
DTSTART:20230312T070000
END:DAYLIGHT
BEGIN:STANDARD
TZOFFSETFROM:-0400
TZOFFSETTO:-0500
TZNAME:EST
DTSTART:20231105T060000
END:STANDARD
BEGIN:DAYLIGHT
TZOFFSETFROM:-0500
TZOFFSETTO:-0400
TZNAME:EDT
DTSTART:20240310T070000
END:DAYLIGHT
BEGIN:STANDARD
TZOFFSETFROM:-0400
TZOFFSETTO:-0500
TZNAME:EST
DTSTART:20241103T060000
END:STANDARD
BEGIN:DAYLIGHT
TZOFFSETFROM:-0500
TZOFFSETTO:-0400
TZNAME:EDT
DTSTART:20250309T070000
END:DAYLIGHT
BEGIN:STANDARD
TZOFFSETFROM:-0400
TZOFFSETTO:-0500
TZNAME:EST
DTSTART:20251102T060000
END:STANDARD
END:VTIMEZONE
BEGIN:VEVENT
DTSTART;TZID=America/New_York:20240611T150000
DTEND;TZID=America/New_York:20240611T163000
DTSTAMP:20260420T164947
CREATED:20240603T140203Z
LAST-MODIFIED:20240607T155337Z
UID:10000413-1718118000-1718123400@healthystart-tasc.org
SUMMARY:Fatherhood Talk Tuesday
DESCRIPTION:On Tuesday\, June 11th from 3-4:30\, the Healthy Start TA & Support Center will be hosting our monthly Fatherhood Talk Tuesday. We will be joined by Dr. Jeffrey Johnson of the National Partnership for Community Leadership (NPCL) where he and Kenn Harris will discuss their much-anticipated mentoring program that will be launching later this year. We will also be spotlighting one of our grantee Fatherhood Coordinators\, Mr. Onaje Muid\, who plays an integral role at the Foundation for Delaware County’s Fatherhood Program. This will be a great opportunity to gain insight into the successes and challenges that grantees face while supporting our fathers enrolled in the Healthy Start program. \nWe encourage all staff to attend and participate in our conversation\, but especially fatherhood coordinators and staff that specifically work with fathers. We hope you can join us for a great conversation!
URL:https://healthystart-tasc.org/event/fatherhood-talk-tuesday-june-2024/
ATTACH;FMTTYPE=image/jpeg:https://healthystart-tasc.org/wp-content/uploads/2024/06/iStock-1847079132.jpg
END:VEVENT
END:VCALENDAR